BEGIN:VCALENDAR
VERSION:2.0
PRODID:-// - ECPv6.3.7//NONSGML v1.0//EN
CALSCALE:GREGORIAN
METHOD:PUBLISH
X-ORIGINAL-URL:https://smrk.space
X-WR-CALDESC:Events for 
REFRESH-INTERVAL;VALUE=DURATION:PT1H
X-Robots-Tag:noindex
X-PUBLISHED-TTL:PT1H
BEGIN:VTIMEZONE
TZID:Europe/Amsterdam
BEGIN:DAYLIGHT
TZOFFSETFROM:+0100
TZOFFSETTO:+0200
TZNAME:CEST
DTSTART:20250330T010000
END:DAYLIGHT
BEGIN:STANDARD
TZOFFSETFROM:+0200
TZOFFSETTO:+0100
TZNAME:CET
DTSTART:20251026T010000
END:STANDARD
END:VTIMEZONE
BEGIN:VEVENT
DTSTART;TZID=Europe/Amsterdam:20251115T110000
DTEND;TZID=Europe/Amsterdam:20251115T150000
DTSTAMP:20260423T122413
CREATED:20250601T145329Z
LAST-MODIFIED:20250601T145329Z
UID:976-1763204400-1763218800@smrk.space
SUMMARY:Flygdag Långtora
DESCRIPTION:Dags för raketuppskjutningar vid Långtora\, alla är välkomna! \nAlla är välkomna!  \nPå Långtora man skjuta upp alla raketklasserna low\, middle och high power med raketvikter med maxvikt  10Kg och flyghöjd under 1200 meter. Vissa av flygningarna är s.k. Tripoli flygningar. \nVi kommer befinna oss vid ladan mitt emot flygklubbens hus. Det går att parkera på stickvägen och vid klubbhuset. \nhttps://maps.app.goo.gl/KHG5zvEUhtuLvzLk6 \nVi har tillgång till kök och kommer att bjuda på korv med bröd. Utöver det kan man beställa PokeBowl (vegetarisk/kyckling/lax) för 135kr/st där valfri dryck ingår. \nVi säljer motorer på plats. Kolla med oss innan om ni behöver någon speciell motor. \nVill ni samåka hör av er till oss så kan vi plocka upp någon på vägen. \nEftersom vi är starkt väderberoende kan eventet ställas in med kort varsel vilket då annonseras ut på facebook och discord\, föranmälda kontaktas. \nSes där! \nKontakt till \nPeter: 070-585 18 04
URL:https://smrk.space/kalender/flygdag-langtora
CATEGORIES:Uppskjutning
END:VEVENT
END:VCALENDAR