BEGIN:VCALENDAR
VERSION:2.0
PRODID:-// - ECPv6.3.7//NONSGML v1.0//EN
CALSCALE:GREGORIAN
METHOD:PUBLISH
X-ORIGINAL-URL:https://smrk.space
X-WR-CALDESC:Events for 
REFRESH-INTERVAL;VALUE=DURATION:PT1H
X-Robots-Tag:noindex
X-PUBLISHED-TTL:PT1H
BEGIN:VTIMEZONE
TZID:Europe/Amsterdam
BEGIN:DAYLIGHT
TZOFFSETFROM:+0100
TZOFFSETTO:+0200
TZNAME:CEST
DTSTART:20250330T010000
END:DAYLIGHT
BEGIN:STANDARD
TZOFFSETFROM:+0200
TZOFFSETTO:+0100
TZNAME:CET
DTSTART:20251026T010000
END:STANDARD
END:VTIMEZONE
BEGIN:VEVENT
DTSTART;TZID=Europe/Amsterdam:20250705T110000
DTEND;TZID=Europe/Amsterdam:20250705T150000
DTSTAMP:20260424T160544
CREATED:20250601T140248Z
LAST-MODIFIED:20250601T140248Z
UID:953-1751713200-1751727600@smrk.space
SUMMARY:Flygdag Tullinge
DESCRIPTION:Dags för ytterligare en uppskjutning! \nRaketer upp till 500 grams vikt får skjutas upp. Alla är välkomna! Ta gärna med dina vänner som kanske får upp intresset för hobbyn. Det går att åka kollektivtrafik ända ut till fältet. Parkering är möjlig invid villaområdet som de byggt vid flygfältet. \nKläder efter väder och mat för dagen. Vi har tillgång till kök. Vi säljer 18mm raketmotorer klass A-D på plats\, de kostar 30-50 kr/st\, betalas med kort på plats. Finns även gamla motorer till försäljning för ca 10-15 kr. Vi har även 24mm och 29mm motorer i klasserna D-G som kostar från 50-400kr/st \nVi kommer att bjuda på korv med bröd. Utöver det kommer man kunna beställa PokeBowl (vegetarisk/kyckling/lax) för 135kr/st där valfri dryck ingår. \nEventet kan komma ställas in med kort varsel\, alternativt ändras till byggdag hos Rolf\, vid väder som ej tillåter säkra flygningar\, i sådana fall kommer uppdateringar på https://www.facebook.com/groups/svenskamodellraketklubben samt Discord. Föranmälda kontaktas. \nSes där! \nKontakt till \nPeter: 070-585 18 04
URL:https://smrk.space/kalender/flygdag-tullinge
CATEGORIES:Uppskjutning
END:VEVENT
END:VCALENDAR