BEGIN:VCALENDAR
VERSION:2.0
PRODID:-// - ECPv6.3.7//NONSGML v1.0//EN
CALSCALE:GREGORIAN
METHOD:PUBLISH
X-ORIGINAL-URL:https://smrk.space
X-WR-CALDESC:Events for 
REFRESH-INTERVAL;VALUE=DURATION:PT1H
X-Robots-Tag:noindex
X-PUBLISHED-TTL:PT1H
BEGIN:VTIMEZONE
TZID:Europe/Amsterdam
BEGIN:DAYLIGHT
TZOFFSETFROM:+0100
TZOFFSETTO:+0200
TZNAME:CEST
DTSTART:20210328T010000
END:DAYLIGHT
BEGIN:STANDARD
TZOFFSETFROM:+0200
TZOFFSETTO:+0100
TZNAME:CET
DTSTART:20211031T010000
END:STANDARD
BEGIN:DAYLIGHT
TZOFFSETFROM:+0100
TZOFFSETTO:+0200
TZNAME:CEST
DTSTART:20220327T010000
END:DAYLIGHT
BEGIN:STANDARD
TZOFFSETFROM:+0200
TZOFFSETTO:+0100
TZNAME:CET
DTSTART:20221030T010000
END:STANDARD
BEGIN:DAYLIGHT
TZOFFSETFROM:+0100
TZOFFSETTO:+0200
TZNAME:CEST
DTSTART:20230326T010000
END:DAYLIGHT
BEGIN:STANDARD
TZOFFSETFROM:+0200
TZOFFSETTO:+0100
TZNAME:CET
DTSTART:20231029T010000
END:STANDARD
END:VTIMEZONE
BEGIN:VEVENT
DTSTART;TZID=Europe/Amsterdam:20230520T100000
DTEND;TZID=Europe/Amsterdam:20230520T160000
DTSTAMP:20260424T054356
CREATED:20230516T182355Z
LAST-MODIFIED:20230516T182438Z
UID:705-1684576800-1684598400@smrk.space
SUMMARY:Raketuppskjutning Tullinge
DESCRIPTION:Dags för ytterliga en uppskjutning! \nDå vi inte kan använda fältet vid Långtora under sommaren\, ses vi ute på gamla Tullinge flygplats istället. Parkering vid Tullinge flygfält  \nIngen Tripoli certifiering är möjlig\, och bara raketer under 500 gram får skjutas upp. “low power” eller “high power” medlemskap behövs för att skjuta upp sin egna raket. Men alla är välkomna att kolla! Ta gärna med dina vänner som kanske får upp intresset för hobbyn. \n  \nParkering vid sydöstra ändan av fältet\, längst med en väg vid de stora stenarna. Vi kommer sannolikt skjuta upp härifrån: https://goo.gl/maps/ZZ4AazV8QSpvi2cB7 \n  \nKläder efter väder och mat för dagen. Vi har INTE tillgång till kök. Vi säljer 18mm motorer från Klima på plats\, de kostar 30-50 kr/st\, betalas med kort på plats. Finns även gamla motorer till försäljning för ca 10-15 kr. Finns även ett antal TSP 29mm motorer att köpa. \n  \nDet går att åka kommunalt hela vägen ut. \n  \nSes där! \nKontakt till \nAnton: 070-916 34 31\nPeter: 070-585 18 04
URL:https://smrk.space/kalender/tullinge-20230520
LOCATION:Tullinge flygfält\, Nära busstop "flygklubben"\, Tullinge\, 14633\, Sweden
CATEGORIES:Uppskjutning
ATTACH;FMTTYPE=image/jpeg:https://smrk.space/wp-content/uploads/2023/02/20220416_105234-scaled.jpg
ORGANIZER;CN="Svenska Modellraketklubben":MAILTO:admin@smrk.space
END:VEVENT
BEGIN:VEVENT
DTSTART;TZID=Europe/Amsterdam:20230517T183000
DTEND;TZID=Europe/Amsterdam:20231031T160000
DTSTAMP:20260424T054356
CREATED:20230505T072247Z
LAST-MODIFIED:20231230T145701Z
UID:683-1684348200-1698768000@smrk.space
SUMMARY:Erbjudande för ungdomar under 25 år\, kostnadsfria byggdagar och uppskjutningar
DESCRIPTION:Under 2023 bjuder Svenska Modellraketklubben alla ungdomar under 25 år att utan kostnad delta på våra byggdagar och uppskjutningar utan kostnad. En raket och två motorer ingår per grupp. Anmälan sker i lag om 2-3 personer. Allt ingår utan kostnad\, förutom resor till eventen. Eventen är sponsrade av RF-SISU Stockholm.\n  \nEn Aerotech Arreaux och en Estes Viking klara för start\n  \nErbjudandet gäller på alla byggdagar och uppskjutningar som är schemalagda på hemsidan\, så längde det finns platser kvar. \n  \nSe bilder från tidigare event här https://smrk.space/ \n  \nAlla deltagare får utan kostnad erbjudande att söka fullt medlemskap i Svenska Modellraketklubben och vår huvudorganisation Svenska Modellflygförbundet! Ansökan görs efter att gruppen blivit antagen till eventet. \n  \nMinst en person per grupp – lagkaptenen – måste vara över 18 år och bli medlem i SMRK på grund av ansvars- och försäkringsskäl. Lägsta ålder 16 år. En av deltagarna per grupp får vara över 25 år.  Begränsat antal platser\, utvalda grupper meddelas så snart som möjligt. Medlemsansökan görs efter att gruppen blivit antagen\, information kommer via mail. \n0-800 km/h på 1.3 sekunder! Försök till Tripoli level 1 high-power certifiering.
URL:https://smrk.space/kalender/ungdom2023
CATEGORIES:Uppskjutning,utbildning,Workshop
ATTACH;FMTTYPE=image/jpeg:https://smrk.space/wp-content/uploads/2022/04/51632121812_.pic_hd-scaled.jpg
ORGANIZER;CN="Svenska Modellraketklubben":MAILTO:admin@smrk.space
END:VEVENT
BEGIN:VEVENT
DTSTART;TZID=Europe/Amsterdam:20230311T103000
DTEND;TZID=Europe/Amsterdam:20230311T180000
DTSTAMP:20260424T054356
CREATED:20230309T191605Z
LAST-MODIFIED:20230309T191605Z
UID:575-1678530600-1678557600@smrk.space
SUMMARY:Uppskjutning Långtora
DESCRIPTION:Dags för ytterliga en uppskjutning!\nRolf kan inte komma men Brian kommer ansvara under dagen för Tripoli verksamheten och level 1 certifieringar. Alla som är antingen Tripoli eller SMFF medlemmar kan komma\, om ni är osäkra på vad ni har för medlemskap så är det bara skriva till mig Anton. Ta med varma kläder (warm clothing) och mycket mat (bring lots of food)\, så det räcker hela dagen. Vi har INTE tillgång till kök på plats. Vi säljer 18mm motorer från Klima på plats.  \nMer info finns i vår FB-grupp och har gått ut med mail till alla medlemmar.
URL:https://smrk.space/kalender/uppskjutning-langtora
LOCATION:Långtora raket\, https://maps.app.goo.gl/KHG5zvEUhtuLvzLk6\, 749 63 Örsundsbro\, Sweden
CATEGORIES:Uppskjutning
ORGANIZER;CN="Svenska Modellraketklubben":MAILTO:admin@smrk.space
END:VEVENT
BEGIN:VEVENT
DTSTART;TZID=Europe/Amsterdam:20230211T090000
DTEND;TZID=Europe/Amsterdam:20230211T170000
DTSTAMP:20260424T054356
CREATED:20230203T133618Z
LAST-MODIFIED:20230309T191338Z
UID:570-1676106000-1676134800@smrk.space
SUMMARY:Uppskjutning Långtora raket
DESCRIPTION:Hej! \nDags för vår första high-power Tripoli uppskjutning! \nKrav på Tripolimedlemsskap\, Roffe kommer vara på plats för att certa level 1-3.\nMaxhöjd 1200 meter och nerslag ska helst ske inom 300 meter simulerat (riskområde 500 meter)\, gärna närmare. Dual deploy är med andra ord ett krav om man skjuter högre. \nTillståndet kostade 3600 kr\, så vi kommer behöva dra in en hel del på startavgifter över de två år vi har tillståndet. Minst 100 kr per aktiv deltagare\, men gärna mer. Betalning med kort på plats. \nMer info kommer till medlemmar över mail.
URL:https://smrk.space/kalender/uppskjutning-langtora-raket
LOCATION:Långtora raket\, https://maps.app.goo.gl/KHG5zvEUhtuLvzLk6\, 749 63 Örsundsbro\, Sweden
CATEGORIES:Uppskjutning
ORGANIZER;CN="Svenska Modellraketklubben":MAILTO:admin@smrk.space
END:VEVENT
BEGIN:VEVENT
DTSTART;TZID=Europe/Amsterdam:20220416T090000
DTEND;TZID=Europe/Amsterdam:20220416T150000
DTSTAMP:20260424T054356
CREATED:20220406T065020Z
LAST-MODIFIED:20220406T065021Z
UID:456-1650099600-1650121200@smrk.space
SUMMARY:Raketdag Tullinge
DESCRIPTION:Då var det dags för vår första uppskjutning på gamla Tullinge flygplats! Vi ses kl 9 på morgonen då gräset är som fuktigast och förhoppningsvis folktomt på fältet. Var på fältet vi är bestämmer vi beroende på var det blåser ifrån. \nGamla Tullinge flygplats är ett stort fält med potential för de flesta typer av raketer\, men vi är begränsade till 500 grams startvikt (nej vi har ingen våg med oss). Parkering sker längs vägen vid markerad plats på kartan. \nMotorer och tändare säljs på plats. Klima A-D samt några olika 24-29mm single use Aerotech motorer. Byggsatser finns att köpa innan men får själv hämtas i Tallkrogen i södra Stockholm\, eller beställas från https://www.raketenmodellbau-klima.de/Raketenmodellbau/Raketenbausaetze.htm?shop=raketenklima&SessionId=&a=catalog&t=23&c=26&p=26 \nSjälv kommer jag skjuta upp en medium power raket med dual deploy\, Gps och logger. \n  \nEventet är avgiftsfritt\, men ni måste vara medlemmar i SMRK och SMFF för att delta med egen raket 200/345kr ungdom/vuxen. \n  \nHoppas vi ses där! \nMvh Anton och styrelsen \n  \n  \n  \n  \n 
URL:https://smrk.space/kalender/raketdag-tullinge
LOCATION:Tullinge flygfält\, Nära busstop "flygklubben"\, Tullinge\, 14633\, Sweden
CATEGORIES:Uppskjutning
ORGANIZER;CN="Svenska Modellraketklubben":MAILTO:admin@smrk.space
END:VEVENT
BEGIN:VEVENT
DTSTART;TZID=Europe/Amsterdam:20210919T110000
DTEND;TZID=Europe/Amsterdam:20210919T190000
DTSTAMP:20260424T054356
CREATED:20210907T132127Z
LAST-MODIFIED:20210918T125003Z
UID:421-1632049200-1632078000@smrk.space
SUMMARY:Workshop och uppskjutning på Långtora
DESCRIPTION:Hej alla raketentusiaster\, \nSöndag den 19e september har vi en byggdag ute på Långtora flygplats utanför Enköping.\nOm vädret och verksamheten på flygplatsen tillåter kommer dagen avslutas med att skjuta upp de raketer som vi har byggt under dagen. \nVi håller till i en bygglokal på Stockholms Segelflygklubbs område (https://www.ssfk.se/)\, som ligger här: https://goo.gl/maps/xgyskCQNa55kHSbb8 \nOm det är flygväder och det blir tid över erbjuder flygklubben möjligheten att provflyga ett segelflygplan för det kraftigt rabatterade priset 700 kr! \nAvgiften för att delta på eventet är 100 kr\, där 50kr går till Segelflygklubben för att använda deras lokaler och faciliteter. Då ingår lim\, kniv och sprayfärg. Det betalas på plats med Swish.\nFör att delta gäller det att man är medlem med betalt medlemskap för “Low power” (100kr/200kr junior/senior)\, se https://smrk.space/medlemskap \nBekanta får göra sällskap\, boka in dem som sepparata bokningar. Avgift för dessa är 50kr. \nVill man skjuta upp sin raket gäller medlemskap i SMFF\, kostar 100 kr för junior eller 145 kr för en vuxen (p.g.a. försäkringskrav).\nTyvärr är SMFF medlemskapet bara giltigt tills årsskiftet\, först från 1a oktober gäller medlemskapet till året efter. \nFöljande modeller finns att köpa: \nEstes Viking (research rocket)        120 kr/st\nKlima Classic MAXI                    109 kr/st\nKlima Auriga                          366 kr/st \nI deltagaravgiften ingår byggmaterial såsom lim\, verktyg och färg. \nOm man vill skjuta upp en hemmadesignad raket ska en stabilitetsanalys vara gjord och kunna uppvisas (tex genom Openrocket).\nMax flyghöjd ca 150 meter. \nEgen bil gäller för att ta sig ut. Vill man samåka så släng iväg ett mail. \nMvh\nAnton\, Ordförande\n070-916 34 31\nadmin@smrk.space
URL:https://smrk.space/kalender/workshop-och-uppskjutning-pa-langtora
LOCATION:Långtora flygplats\, Långtora flygfält\, Enköping\, Sweden
CATEGORIES:Uppskjutning,Workshop
ORGANIZER;CN="Svenska Modellraketklubben":MAILTO:admin@smrk.space
END:VEVENT
END:VCALENDAR