BEGIN:VCALENDAR
VERSION:2.0
PRODID:-// - ECPv6.3.7//NONSGML v1.0//EN
CALSCALE:GREGORIAN
METHOD:PUBLISH
X-ORIGINAL-URL:https://smrk.space
X-WR-CALDESC:Events for 
REFRESH-INTERVAL;VALUE=DURATION:PT1H
X-Robots-Tag:noindex
X-PUBLISHED-TTL:PT1H
BEGIN:VTIMEZONE
TZID:Europe/Amsterdam
BEGIN:DAYLIGHT
TZOFFSETFROM:+0100
TZOFFSETTO:+0200
TZNAME:CEST
DTSTART:20230326T010000
END:DAYLIGHT
BEGIN:STANDARD
TZOFFSETFROM:+0200
TZOFFSETTO:+0100
TZNAME:CET
DTSTART:20231029T010000
END:STANDARD
END:VTIMEZONE
BEGIN:VEVENT
DTSTART;TZID=Europe/Amsterdam:20230325T103000
DTEND;TZID=Europe/Amsterdam:20230325T180000
DTSTAMP:20260420T142313
CREATED:20230309T192013Z
LAST-MODIFIED:20230314T121031Z
UID:577-1679740200-1679767200@smrk.space
SUMMARY:Uppskjutning Långtora raket eller byggdag vid dåligt väder
DESCRIPTION:Dags för ytterliga en uppskjutning! Vid dåligt väder kör vi byggdag istället. \nBygg ihop din raket och kom ut och skjut upp den! Ta med varma kläder och mycket mat\, så det räcker hela dagen. Vi har INTE tillgång till kök på plats. Vi säljer 18mm motorer från Klima på plats och har startramper och tändsystem. Vill du samåka så skriv en rad här så kan vi se om någon kan plocka upp er på vägen\, så får ni dela på bränslet i den bilen. Ni kan även ställa frågor i chatten till denna grupp. \nFör att skjuta upp sin egen raket gäller det att man är aktiv medlem\, se https://smrk.space/medlemskap \nAlla får självklart komma ut och kolla på hur som. \nInformation om det blir uppskjutning eller byggdag kommer dagarna innan\, när vi vet hur vädret ser ut.
URL:https://smrk.space/kalender/byggdag-stockholm-4
LOCATION:Långtora raket\, https://maps.app.goo.gl/KHG5zvEUhtuLvzLk6\, 749 63 Örsundsbro\, Sweden
CATEGORIES:Workshop
ORGANIZER;CN="Svenska Modellraketklubben":MAILTO:admin@smrk.space
END:VEVENT
END:VCALENDAR