BEGIN:VCALENDAR
VERSION:2.0
PRODID:-// - ECPv6.3.7//NONSGML v1.0//EN
CALSCALE:GREGORIAN
METHOD:PUBLISH
X-ORIGINAL-URL:https://smrk.space
X-WR-CALDESC:Events for 
REFRESH-INTERVAL;VALUE=DURATION:PT1H
X-Robots-Tag:noindex
X-PUBLISHED-TTL:PT1H
BEGIN:VTIMEZONE
TZID:Europe/Amsterdam
BEGIN:DAYLIGHT
TZOFFSETFROM:+0100
TZOFFSETTO:+0200
TZNAME:CEST
DTSTART:20230326T010000
END:DAYLIGHT
BEGIN:STANDARD
TZOFFSETFROM:+0200
TZOFFSETTO:+0100
TZNAME:CET
DTSTART:20231029T010000
END:STANDARD
END:VTIMEZONE
BEGIN:VEVENT
DTSTART;TZID=Europe/Amsterdam:20230517T183000
DTEND;TZID=Europe/Amsterdam:20231031T160000
DTSTAMP:20260420T080923
CREATED:20230505T072247Z
LAST-MODIFIED:20231230T145701Z
UID:683-1684348200-1698768000@smrk.space
SUMMARY:Erbjudande för ungdomar under 25 år\, kostnadsfria byggdagar och uppskjutningar
DESCRIPTION:Under 2023 bjuder Svenska Modellraketklubben alla ungdomar under 25 år att utan kostnad delta på våra byggdagar och uppskjutningar utan kostnad. En raket och två motorer ingår per grupp. Anmälan sker i lag om 2-3 personer. Allt ingår utan kostnad\, förutom resor till eventen. Eventen är sponsrade av RF-SISU Stockholm.\n  \nEn Aerotech Arreaux och en Estes Viking klara för start\n  \nErbjudandet gäller på alla byggdagar och uppskjutningar som är schemalagda på hemsidan\, så längde det finns platser kvar. \n  \nSe bilder från tidigare event här https://smrk.space/ \n  \nAlla deltagare får utan kostnad erbjudande att söka fullt medlemskap i Svenska Modellraketklubben och vår huvudorganisation Svenska Modellflygförbundet! Ansökan görs efter att gruppen blivit antagen till eventet. \n  \nMinst en person per grupp – lagkaptenen – måste vara över 18 år och bli medlem i SMRK på grund av ansvars- och försäkringsskäl. Lägsta ålder 16 år. En av deltagarna per grupp får vara över 25 år.  Begränsat antal platser\, utvalda grupper meddelas så snart som möjligt. Medlemsansökan görs efter att gruppen blivit antagen\, information kommer via mail. \n0-800 km/h på 1.3 sekunder! Försök till Tripoli level 1 high-power certifiering.
URL:https://smrk.space/kalender/ungdom2023
CATEGORIES:Uppskjutning,utbildning,Workshop
ATTACH;FMTTYPE=image/jpeg:https://smrk.space/wp-content/uploads/2022/04/51632121812_.pic_hd-scaled.jpg
ORGANIZER;CN="Svenska Modellraketklubben":MAILTO:admin@smrk.space
END:VEVENT
BEGIN:VEVENT
DTSTART;TZID=Europe/Amsterdam:20230702T100000
DTEND;TZID=Europe/Amsterdam:20230702T160000
DTSTAMP:20260420T080923
CREATED:20230630T195055Z
LAST-MODIFIED:20230630T195055Z
UID:812-1688292000-1688313600@smrk.space
SUMMARY:Byggdag hos Rolf
DESCRIPTION:Byggdag i Stockholm! \nTa med ditt egna projekt eller välj från ett större urval modeller från Rolfs eller vårt egna förråd. Förutom ett större antal Estes modeller finns flertalet större mid- och high power byggsatser från Aerotech av modellerna Cheeta\, Mustang\, Arraux\, Wart-hog\, Strong Arm\, Tomahawk med flera! De har några år på nacken men är trevliga modeller att bygga. De kostar i storleksordningen runt 1000 kr. \nNy byggsats – Dynastar Amarok – som väger ca 300 gram och som är perfekt för nybörjare för att komma igång med större raketer. Passar med TSPs 24 och 29mm motorer. Den kostar ca 900kr\, se https://smrk.space/product/dynastar-amarok \n  \nKlubbens egna modell Klima Classic Maxi passar perfekt för den som aldrig byggt förut\, och ligger på runt 100-150 kr. \nIngen avgift för medlemmar\, annars 50 kr om någon annan vill följa med. \nUngdomar under 25 får 20% rabatt på alla av föreningens byggsatser! (under 500 kr). \nFör insläpp\, ring \nPeter på 070-585 18 04 eller \nRolf 070-58 177 87 \n  \n  \n  \nSvara gärna om ni kommer. \n  \n  \nTa med mycket fika!
URL:https://smrk.space/kalender/byggdag-hos-rolf
LOCATION:Rolfs lokal\, Torsgränd\, Stockholm\, 11361\, Sweden
CATEGORIES:Workshop
ATTACH;FMTTYPE=image/jpeg:https://smrk.space/wp-content/uploads/2022/04/51632121812_.pic_hd-scaled.jpg
ORGANIZER;CN="Svenska Modellraketklubben":MAILTO:admin@smrk.space
END:VEVENT
BEGIN:VEVENT
DTSTART;TZID=Europe/Amsterdam:20230722T100000
DTEND;TZID=Europe/Amsterdam:20230722T160000
DTSTAMP:20260420T080923
CREATED:20230718T191813Z
LAST-MODIFIED:20230718T191813Z
UID:819-1690020000-1690041600@smrk.space
SUMMARY:Byggdag i Stockholm hos Rolf
DESCRIPTION:Byggdag i Stockholm! \nTa med ditt egna projekt eller välj från ett större urval modeller från Rolfs eller vårt egna förråd. Förutom ett större antal Estes modeller finns flertalet större mid- och high power byggsatser från Aerotech av modellerna Cheeta\, Mustang\, Arraux\, Wart-hog\, Strong Arm\, Tomahawk med flera! De har några år på nacken men är trevliga modeller att bygga. De kostar i storleksordningen runt 1000 kr. \nNy byggsats – Dynastar Amarok – som väger ca 300 gram och som är perfekt för nybörjare för att komma igång med större raketer. Passar med TSPs 24 och 29mm motorer. Den kostar ca 900kr\, se https://smrk.space/product/dynastar-amarok \n  \nKlubbens egna modell Klima Classic Maxi passar perfekt för den som aldrig byggt förut\, och ligger på runt 100-150 kr. \nIngen avgift för medlemmar\, annars 50 kr om någon annan vill följa med. \nUngdomar under 25 får 20% rabatt på alla av föreningens byggsatser! (under 500 kr). \n  \nFör insläpp\, ring: \nPeter på 070-585 18 04 eller \nRolf 070-58 177 87 \nSvara gärna om ni kommer. \nTa med mycket fika!
URL:https://smrk.space/kalender/byggdag-i-stockholm-hos-rolf
LOCATION:Rolfs lokal\, Torsgränd\, Stockholm\, 11361\, Sweden
CATEGORIES:Workshop
ATTACH;FMTTYPE=image/jpeg:https://smrk.space/wp-content/uploads/2023/07/byggdag2.jpeg
ORGANIZER;CN="Svenska Modellraketklubben":MAILTO:admin@smrk.space
END:VEVENT
END:VCALENDAR