BEGIN:VCALENDAR
VERSION:2.0
PRODID:-// - ECPv6.3.7//NONSGML v1.0//EN
CALSCALE:GREGORIAN
METHOD:PUBLISH
X-ORIGINAL-URL:https://smrk.space
X-WR-CALDESC:Events for 
REFRESH-INTERVAL;VALUE=DURATION:PT1H
X-Robots-Tag:noindex
X-PUBLISHED-TTL:PT1H
BEGIN:VTIMEZONE
TZID:Europe/Amsterdam
BEGIN:DAYLIGHT
TZOFFSETFROM:+0100
TZOFFSETTO:+0200
TZNAME:CEST
DTSTART:20220327T010000
END:DAYLIGHT
BEGIN:STANDARD
TZOFFSETFROM:+0200
TZOFFSETTO:+0100
TZNAME:CET
DTSTART:20221030T010000
END:STANDARD
END:VTIMEZONE
BEGIN:VEVENT
DTSTART;TZID=Europe/Amsterdam:20221126T110000
DTEND;TZID=Europe/Amsterdam:20221126T160000
DTSTAMP:20260420T215650
CREATED:20221121T211357Z
LAST-MODIFIED:20221121T211357Z
UID:543-1669460400-1669478400@smrk.space
SUMMARY:Byggdag Stockholm
DESCRIPTION:Hej alla raketentusiaster! \nNu har vi äntligen fått en lokal som vi regelbundet kan använda för byggdagar\, beläget centralt i Stockholm i området kring S:t Eriksplan. \nPå lördag kör vi en byggdag där vi tillsammans bygger raketer och bollar tankar och kunskaper oss emellan. Det finns ett antal olika modeller att köpa på plats. \nLänk för anmälan är skickad via mail till alla medlemmar. Har du inte mottagit inbjudan så skicka ett mail så lägger jag till dig. \n  \nHoppas vi ses där!
URL:https://smrk.space/kalender/byggdag-stockholm
LOCATION:Rolfs lokal\, Torsgränd\, Stockholm\, 11361\, Sweden
CATEGORIES:Workshop
ORGANIZER;CN="Svenska Modellraketklubben":MAILTO:admin@smrk.space
END:VEVENT
END:VCALENDAR