BEGIN:VCALENDAR
VERSION:2.0
PRODID:-// - ECPv6.3.7//NONSGML v1.0//EN
CALSCALE:GREGORIAN
METHOD:PUBLISH
X-ORIGINAL-URL:https://smrk.space
X-WR-CALDESC:Events for 
REFRESH-INTERVAL;VALUE=DURATION:PT1H
X-Robots-Tag:noindex
X-PUBLISHED-TTL:PT1H
BEGIN:VTIMEZONE
TZID:Europe/Amsterdam
BEGIN:DAYLIGHT
TZOFFSETFROM:+0100
TZOFFSETTO:+0200
TZNAME:CEST
DTSTART:20220327T010000
END:DAYLIGHT
BEGIN:STANDARD
TZOFFSETFROM:+0200
TZOFFSETTO:+0100
TZNAME:CET
DTSTART:20221030T010000
END:STANDARD
END:VTIMEZONE
BEGIN:VEVENT
DTSTART;TZID=Europe/Amsterdam:20221217T110000
DTEND;TZID=Europe/Amsterdam:20221217T170000
DTSTAMP:20260420T202124
CREATED:20221208T102537Z
LAST-MODIFIED:20221208T102537Z
UID:547-1671274800-1671296400@smrk.space
SUMMARY:Byggdag Stockholm
DESCRIPTION:Hej alla raketentusiaster! \n  \nDå var det dags för en byggdag/workshop igen. Vi håller till i föreningslokalen på Torsgränd i Stockholm\, där vi har gott om plats att ställa ut bord och bygga på. \nEn större mängd modellraketer och större byggsatser från Aerotech finns att köpa från mig Anton och Rolf på plats\, tillsammans med diverse tillbehör. \nHar ni egna verktyg så ta med dem. Jag kommer själv jobba med en level 2 konstruktion. Kommer även ställa ut ett antal high-power motorer för att beskåda! \n  \nVi kommer ordna en dag för uppskjutning veckorna efter ute på Tullinge\, för raketer upp till 500 grams startvikt. \nOm ni tar med icke-medlemmar tillkommer en kostnad på 50 kr per besökare. \n  \nMer information har skickats till medlemmar\, är du inte medlem men vill vara med så skicka ett mail.
URL:https://smrk.space/kalender/byggdag-stockholm-2
LOCATION:Rolfs lokal\, Torsgränd\, Stockholm\, 11361\, Sweden
CATEGORIES:Workshop
ATTACH;FMTTYPE=image/jpeg:https://smrk.space/wp-content/uploads/2022/04/20210919_125132-scaled.jpg
ORGANIZER;CN="Svenska Modellraketklubben":MAILTO:admin@smrk.space
END:VEVENT
END:VCALENDAR