BEGIN:VCALENDAR
VERSION:2.0
PRODID:-// - ECPv6.3.7//NONSGML v1.0//EN
CALSCALE:GREGORIAN
METHOD:PUBLISH
X-ORIGINAL-URL:https://smrk.space
X-WR-CALDESC:Events for 
REFRESH-INTERVAL;VALUE=DURATION:PT1H
X-Robots-Tag:noindex
X-PUBLISHED-TTL:PT1H
BEGIN:VTIMEZONE
TZID:Europe/Amsterdam
BEGIN:DAYLIGHT
TZOFFSETFROM:+0100
TZOFFSETTO:+0200
TZNAME:CEST
DTSTART:20190331T010000
END:DAYLIGHT
BEGIN:STANDARD
TZOFFSETFROM:+0200
TZOFFSETTO:+0100
TZNAME:CET
DTSTART:20191027T010000
END:STANDARD
BEGIN:DAYLIGHT
TZOFFSETFROM:+0100
TZOFFSETTO:+0200
TZNAME:CEST
DTSTART:20200329T010000
END:DAYLIGHT
BEGIN:STANDARD
TZOFFSETFROM:+0200
TZOFFSETTO:+0100
TZNAME:CET
DTSTART:20201025T010000
END:STANDARD
BEGIN:DAYLIGHT
TZOFFSETFROM:+0100
TZOFFSETTO:+0200
TZNAME:CEST
DTSTART:20210328T010000
END:DAYLIGHT
BEGIN:STANDARD
TZOFFSETFROM:+0200
TZOFFSETTO:+0100
TZNAME:CET
DTSTART:20211031T010000
END:STANDARD
END:VTIMEZONE
BEGIN:VEVENT
DTSTART;TZID=Europe/Amsterdam:20210630T180000
DTEND;TZID=Europe/Amsterdam:20210630T210000
DTSTAMP:20260422T004703
CREATED:20210629T202227Z
LAST-MODIFIED:20210630T153009Z
UID:410-1625076000-1625086800@smrk.space
SUMMARY:D-utbildning 30e juni 2021
DESCRIPTION:D-utbildning för pyrotekniska produkter klass P1/P2 för modell- och obemannade raketer \nD-utbildning är ett krav om man ska söka tillstånd för förvaring och hantering av explosiva varor. \nD-utbildningen täcker bland annat följande produktfamiljer:\n– Raketmotorer för modellraketer från bland annat Klima och Estes.\n– Laddningsbara raketmotorer från Aerotech och Cesaroni.\n– Elektriska tändare.\n– Utbildningen kan även få tillgodoses vid förvaring av andra explosiva varor som Pyrodex eller svartkrut.\n– Andra produkter med liknande konstruktion och funktion. \n  \nPris\nMedlem: 300kr \n  \nBetalningsuppgifter: \nMottagande bank: Skandiabanken\nKonto: 9159-841.530-3.\nMottagare: “Anton Vannesjö\, SMRK” \nAnge meddelande: D-utb och namn. \n  \nTa med godkänd ID-handling!
URL:https://smrk.space/kalender/d-utbildning-30e-juni-2021
LOCATION:Aggarpsvägen 528\, 26694 Munka-ljungby\, Aggarpsvägen 528\, Munka-ljungby\, 26694\, Sweden
CATEGORIES:utbildning
ORGANIZER;CN="Svenska Modellraketklubben":MAILTO:admin@smrk.space
END:VEVENT
BEGIN:VEVENT
DTSTART;TZID=Europe/Amsterdam:20210526T190000
DTEND;TZID=Europe/Amsterdam:20210526T220000
DTSTAMP:20260422T004703
CREATED:20210720T203037Z
LAST-MODIFIED:20210720T203037Z
UID:414-1622055600-1622066400@smrk.space
SUMMARY:D-utbildning
DESCRIPTION:D-utbildning för pyrotekniska produkter klass P1/P2 för modell- och obemannade raketer \nD-utbildning är ett krav om man ska söka tillstånd för förvaring och hantering av explosiva varor. \nD-utbildningen täcker bland annat följande produktfamiljer:\n– Raketmotorer för modellraketer från bland annat Klima och Estes.\n– Laddningsbara raketmotorer från Aerotech och Cesaroni.\n– Elektriska tändare.\n– Utbildningen kan även få tillgodoses vid förvaring av andra explosiva varor som Pyrodex eller svartkrut.\n– Andra produkter med liknande konstruktion och funktion. \n  \n  \nTa med godkänd ID-handling!
URL:https://smrk.space/kalender/d-utbildning-26mars21
LOCATION:Elitkomposit\, Uddevalla\, Sweden
CATEGORIES:utbildning
END:VEVENT
BEGIN:VEVENT
DTSTART;TZID=Europe/Amsterdam:20210322T190000
DTEND;TZID=Europe/Amsterdam:20210322T200000
DTSTAMP:20260422T004703
CREATED:20210308T181235Z
LAST-MODIFIED:20210308T181235Z
UID:406-1616439600-1616443200@smrk.space
SUMMARY:Årsmöte 2021
DESCRIPTION:Hej! \n  \nNu är det dags för årsmötet 2021. \n  \nDatum:            22 Mars 2021 \nTid:                   19:00 \nPlats:                Online\, via Zoom \n  \nLänk till möte och bilagor är skickade i privat mail. \n  \nGlöm inte att betala medlemsavgiften innan! \n  \nSe https://smrk.space/medlemskap \n  \n  \nHälsningar \nAnton Vannesjö \nOrdförande Svenska Modellraketklubben \nhttps://SMRK.space
URL:https://smrk.space/kalender/arsmote-2021
LOCATION:Zoom\, Sweden
CATEGORIES:årsmöte
ORGANIZER;CN="Svenska Modellraketklubben":MAILTO:admin@smrk.space
END:VEVENT
BEGIN:VEVENT
DTSTART;TZID=Europe/Amsterdam:20210314T130000
DTEND;TZID=Europe/Amsterdam:20210314T170000
DTSTAMP:20260422T004703
CREATED:20210218T191920Z
LAST-MODIFIED:20210219T161729Z
UID:376-1615726800-1615741200@smrk.space
SUMMARY:Digital workshop 14e mars
DESCRIPTION:Söndag den 14e mars (vecka 10) kl 13:00 bjuder vi in till en digital workshop för alla betalande medlemmar. \nWorkshoppen är kostnadsfri och kommer gå över konversationsverktyget Zoom. Vi börjar med en kort introduktion till modellraketer\, sedan kommer en presentation av CAD-verktyget Open Rocket där man kan designa och simulera raketuppskjutningar. Vi kommer diskutera parametrar som tyngdpunktsläge\, aerodynamiskt tryckcentrum\, stabilitets marginal\, val av motorer\, vilken fördröjning som är lämplig\, och mycket mer. Kommer även kortfattat gå igenom vilka regler som gäller. \nLadda ner mjukvaran här i god tid innan: (https://smrk.space/for-nyborjare\, “Länk till Openrocket installationspaket med rätt JAVA paket”) och kolla gärna på de olika filmerna som finns länkade. \nBygget kommer fokuseras på den väldigt enkla modellen “Viking” från Estes. Inför workshopen har ni möjlighet att beställa följande raketer som postas hem till er innan workshoppen. Frakt och emballage på 100 kr tillkommer. Rekommenderar limmet “UHU Hart”\, men allt som fungerar med papper och plast fungerar. Har tyvärr inte funnit något sätt att frakta motorerna\, de får köpas på plats vid nästa launch. Men vem vill inte bygga sin egna raket?\n \n  \nFöljande modeller finns att beställa: \nEstes Viking (research rocket)           120 kr/st            https://estesrockets.com/product/001949-viking/\nKlima Classic MAXI (önska färg)       109 kr/st            https://www.raketenmodellbau-klima.de/Raketenmodellbau/Raketenbausaetze/Sixpack-Classic-MAXI.htm?shop=raketenklima&SessionId=&a=article&ProdNr=3502&t=23&c=26&p=26\nKlima Auriga                                       366 kr/st            https://www.raketenmodellbau-klima.de/AURIGA.htm?shop=raketenklima&SessionId=&a=article&ProdNr=2211&t=23&c=26&p=26 \n  \nLänk till mötet och info om hur man beställer finns i mailet som skickats till alla medlemmar. \n  \nAnton Vannesjö \nOrdförande
URL:https://smrk.space/kalender/digital-workshop-14e-mars
LOCATION:Zoom\, Sweden
CATEGORIES:Workshop
ORGANIZER;CN="Svenska Modellraketklubben":MAILTO:admin@smrk.space
END:VEVENT
BEGIN:VEVENT
DTSTART;TZID=Europe/Amsterdam:20210226T173000
DTEND;TZID=Europe/Amsterdam:20210226T210000
DTSTAMP:20260422T004703
CREATED:20210218T191236Z
LAST-MODIFIED:20210225T201319Z
UID:371-1614360600-1614373200@smrk.space
SUMMARY:D-utbildning 26e februari 2021
DESCRIPTION:Dags för D-utbildning igen. Den 26e februari kl 17:30 kör vi i Magnethuset vid Odenplan. \nD-utbildningen behövs om man ska söka tillstånd för förvaring och hantering av explosiva varor\, eller om man vill lära sig mer om hobbyn och de regler som gäller i Sverige. \nD-utbildningen täcker bland annat följande produktfamiljer:\n– Raketmotorer för modellraketer från bland annat Klima och Estes.\n– Laddningsbara raketmotorer från Aerotech och Cesaroni.\n– Elektriska tändare.\n– Utbildningen kan även få tillgodoses vid förvaring av andra explosiva varor som Pyrodex eller svartkrut.\n– Andra produkter med liknande konstruktion och funktion. \nFör pyroteknisk utbildning på airsoft granater hänvisas till Vanntech AB (vanntech.se) \nUtbildningen tar ca 4 timmar. \n  \nPris\nMedlem (medlemsavgiften betalad): 300kr\nIcke-medlem 500kr \n+lokalavgift på 100 kr/per person. \nBetala avgiften i god tid innan\, summan måste finnas på kontot senast då kursen startar. \n  \nBetalningsuppgifter: \nMottagande bank: Skandiabanken\nKonto: 9159-841.530-3.\nMottagare: “Anton Vannesjö\, SMRK” \nAnge meddelande: “D-utb” och namn. \n  \nKrav på munskydd\, max 8 personer i lokalen.\nTa med godkänd ID-handling! \n  \nLäs gärna på reglerna i förväg: \nLagar och regler \n \n  \n//Anton
URL:https://smrk.space/kalender/d-utbildning-3
LOCATION:Magnethuset\, Drottninggatan 120B\, Stockholm\, 11360\, Sweden
CATEGORIES:utbildning
ORGANIZER;CN="Svenska Modellraketklubben":MAILTO:admin@smrk.space
END:VEVENT
BEGIN:VEVENT
DTSTART;TZID=Europe/Amsterdam:20201004T120000
DTEND;TZID=Europe/Amsterdam:20201004T160000
DTSTAMP:20260422T004703
CREATED:20200929T082838Z
LAST-MODIFIED:20201012T140753Z
UID:361-1601812800-1601827200@smrk.space
SUMMARY:D-utbildning
DESCRIPTION:Den 4e oktober kl 12:00 är det dags för D-utbildning igen. Denna gång är det främst för Astronomiska föreningen i Uppsala men finns några platser kvar. \nDen är ett krav för att få tillstånd att förvara och hantera explosiva varor\, men är oavsett en bra kurs för att få en kunskapsgrund kring de svenska regelverken om pyroteknik. \nVi går igenom olika typer av motorer och tändare\, regelverk vid raketflygning och säkerhetsaspekter kring verksamheten. \nKursen kostar 200kr för medlemmar och AU eller 500kr för icke-medlemmar. Bindande anmälan senast 3:e oktober. \n  \nAnmälan sker genom formuläret ovan. \n  \nLäs mer om utbildningen här. \nAlla personuppgifter måste fyllas i då klubben måste föra register över de som genomfört D-utbildning. Kopia på kursintyg skickas till MSB efter genomförd kurs.
URL:https://smrk.space/kalender/d-utbildning-2
LOCATION:Magnethuset\, Drottninggatan 120B\, Stockholm\, 11360\, Sweden
CATEGORIES:utbildning
ORGANIZER;CN="Svenska Modellraketklubben":MAILTO:admin@smrk.space
END:VEVENT
BEGIN:VEVENT
DTSTART;TZID=Europe/Amsterdam:20200701T190000
DTEND;TZID=Europe/Amsterdam:20200701T200000
DTSTAMP:20260422T004703
CREATED:20200623T001043Z
LAST-MODIFIED:20200623T001043Z
UID:291-1593630000-1593633600@smrk.space
SUMMARY:Extra årsmöte
DESCRIPTION:Styrelsen önskar kalla till extrainsatt årsmöte för Svenska Modellraketklubben.\nAnledningen till mötet är att vi har tre medlemmar som vill hjälpa till med styrelsearbetet\, som årsmötet får ta ställning till. \nTid: kl 19:00 onsdag den 1a juli.  \nMer info har skickats via mail. \nHälsningar\nStyrelsen
URL:https://smrk.space/kalender/extra-arsmote
LOCATION:Google Hangout
CATEGORIES:årsmöte
ORGANIZER;CN="Svenska Modellraketklubben":MAILTO:admin@smrk.space
END:VEVENT
BEGIN:VEVENT
DTSTART;TZID=Europe/Amsterdam:20200507T180000
DTEND;TZID=Europe/Amsterdam:20200507T200000
DTSTAMP:20260422T004703
CREATED:20200425T210433Z
LAST-MODIFIED:20201012T140828Z
UID:285-1588874400-1588881600@smrk.space
SUMMARY:Webseminarium om rakethobbyn med SMRK och AU
DESCRIPTION:Svenska Modellraketklubben och Astronomiska föreningen i Uppsala\, en grupp under Astronomisk ungdom\, inbjuder till webseminarium om rakethobbyn i Sverige. \nDagordningen är inte bestämd men vi kommer hålla några föredrag från SMRK’s medlemmar\, AU’s projektgrupper från Uppsala och Lund\, eventuellt AESIR på KTH och förhoppningsvis andra organisationer. \nHar ni något eget ni vill prata om eller tips på organisationer eller personer ni vill bjuda in skriv till admin@smrk.space.\nDagordning och länk till Zoom kommer närmare mötet till anmälda deltagare.
URL:https://smrk.space/kalender/seminarium-om-rakethobbyn-med-smrk-och-au
ORGANIZER;CN="Svenska Modellraketklubben och Astronomiska f%C3%B6reningen":MAILTO:admin@smrk.space
END:VEVENT
BEGIN:VEVENT
DTSTART;TZID=Europe/Amsterdam:20200407T180000
DTEND;TZID=Europe/Amsterdam:20200407T210000
DTSTAMP:20260422T004703
CREATED:20200317T183255Z
LAST-MODIFIED:20200406T170948Z
UID:228-1586282400-1586293200@smrk.space
SUMMARY:D-utbildning
DESCRIPTION:Den 7e april kl 18:00 arrangerar vi vår första D-utbildning. Den är ett krav för att få tillstånd att förvara och hantera explosiva varor\, men är oavsett en bra kurs för att få en kunskapsgrund kring de svenska regelverken om pyroteknik. \nVi går igenom olika typer av motorer och tändare\, regelverk vid raketflygning och säkerhetsaspekter kring verksamheten. \nKursen kostar 200kr för medlemmar eller 500kr för icke-medlemmar. Lokalavgiften på 390kr delas jämnt mellan deltagarna. Bindande anmälan senast 4:e april. \n  \nAnmälan sker genom formuläret ovan. \n  \nLäs mer om utbildningen här. \nAlla personuppgifter måste fyllas i då klubben måste föra register över de som genomfört D-utbildning. Kopia på kursintyg skickas till MSB efter genomförd kurs.
URL:https://smrk.space/kalender/d-utbildning
LOCATION:Magnethuset\, Drottninggatan 120B\, Stockholm\, 11360\, Sweden
CATEGORIES:utbildning
END:VEVENT
BEGIN:VEVENT
DTSTART;TZID=Europe/Amsterdam:20200227T190000
DTEND;TZID=Europe/Amsterdam:20200227T200000
DTSTAMP:20260422T004703
CREATED:20200208T004715Z
LAST-MODIFIED:20200208T004715Z
UID:192-1582830000-1582833600@smrk.space
SUMMARY:Årsmöte 2020
DESCRIPTION:Hej alla raketentusiaster! \n\nHärmed kallas ni till SMRK:s årsmöte den 27e februari kl 19:00. \n\nPreliminärt sker mötet över Google hangout. Om någon från Stockholm vill delta kan vi försöka finna en plats att mötas på. \nKom gärna med förslag om ni har tillgång till kontor eller annan plats\, gärna med projektor. \nLänk till Hangout: https://hangouts.google.com/group/iKe2zfGAtZNSubfE9 \n\nVi behöver fler ledamöter och suppleanter! Vill du hjälpa oss att driva rakethobbyn framåt och kanske har erfarenhet inom styrelseuppdrag eller annat som kan vara hjälpsamt så skriv en rad till denna adress så föreslår vi dig till årsmötet. \n\nNuvarande styrelseförslag för 2020: \n\nAnton Vannesjö – ordförande (nyval) \nRolf Örell – ledamot (nyval) \nLars Sjödahl – ledamot (sittande) \nRevisor – Janne Djärv (sittande\, extern) \n\nMotioner ska vara till styrelsen tillhanda senast en vecka före årsmötet\, men gärna tidigare än så. \n\nFöredragningslista skickas ut separat senast två veckor innan årsmötet. \n\n\n”Sikta högt\, ingen har nånsin krockat med himmelen” \n  \nVänliga hälsningar \nAnton Vannesjö \nFör styrelsen SMRK
URL:https://smrk.space/kalender/arsmote-2020
LOCATION:Google Hangout
CATEGORIES:årsmöte
END:VEVENT
BEGIN:VEVENT
DTSTART;TZID=Europe/Amsterdam:20190125T190000
DTEND;TZID=Europe/Amsterdam:20190125T200000
DTSTAMP:20260422T004703
CREATED:20190122T162255Z
LAST-MODIFIED:20190122T162255Z
UID:133-1548442800-1548446400@smrk.space
SUMMARY:Årsmöte 2019
DESCRIPTION:Alla medlemmar är härmed kallade till Svenska Modellraketklubbens årsmötet den 25e Januari kl 19:00 i kafet på Stockholms Stadsbibliotek.
URL:https://smrk.space/kalender/arsmote-2019
CATEGORIES:årsmöte
END:VEVENT
END:VCALENDAR